BEGIN:VCALENDAR
VERSION:2.0
PRODID:-//Grove Park Community Group - ECPv6.15.7//NONSGML v1.0//EN
CALSCALE:GREGORIAN
METHOD:PUBLISH
X-ORIGINAL-URL:https://gpcg.org.uk
X-WR-CALDESC:Events for Grove Park Community Group
REFRESH-INTERVAL;VALUE=DURATION:PT1H
X-Robots-Tag:noindex
X-PUBLISHED-TTL:PT1H
BEGIN:VTIMEZONE
TZID:Europe/London
BEGIN:DAYLIGHT
TZOFFSETFROM:+0000
TZOFFSETTO:+0100
TZNAME:BST
DTSTART:20230326T010000
END:DAYLIGHT
BEGIN:STANDARD
TZOFFSETFROM:+0100
TZOFFSETTO:+0000
TZNAME:GMT
DTSTART:20231029T010000
END:STANDARD
BEGIN:DAYLIGHT
TZOFFSETFROM:+0000
TZOFFSETTO:+0100
TZNAME:BST
DTSTART:20240331T010000
END:DAYLIGHT
BEGIN:STANDARD
TZOFFSETFROM:+0100
TZOFFSETTO:+0000
TZNAME:GMT
DTSTART:20241027T010000
END:STANDARD
BEGIN:DAYLIGHT
TZOFFSETFROM:+0000
TZOFFSETTO:+0100
TZNAME:BST
DTSTART:20250330T010000
END:DAYLIGHT
BEGIN:STANDARD
TZOFFSETFROM:+0100
TZOFFSETTO:+0000
TZNAME:GMT
DTSTART:20251026T010000
END:STANDARD
END:VTIMEZONE
BEGIN:VEVENT
DTSTART;TZID=Europe/London:20241211T100000
DTEND;TZID=Europe/London:20241211T140000
DTSTAMP:20260420T213514
CREATED:20241008T221257Z
LAST-MODIFIED:20250131T125744Z
UID:10000189-1733911200-1733925600@gpcg.org.uk
SUMMARY:Wood Workshop at The Ringway
DESCRIPTION:Come work in our wood workshop on Wednesdays & Fridays\, 10am – 2pm. \nAll welcome\, no prior experience needed. Learn new basic skills in tool handling and creative wood making. \n  \n£2.50 per person per session\, excluding material.
URL:https://gpcg.org.uk/event/wood-workshop-at-the-ringway/2024-12-11/
LOCATION:The Ringway Centre\, 268 Baring Road\, London\, SE12 0DS
ATTACH;FMTTYPE=image/png:https://gpcg.org.uk/wp-content/uploads/2024/10/Wood-Workshops-GPCG-1-e1738328244262.png
ORGANIZER;CN="GPCG":MAILTO:info@gpcg.org.uk
END:VEVENT
BEGIN:VEVENT
DTSTART;TZID=Europe/London:20241204T100000
DTEND;TZID=Europe/London:20241204T140000
DTSTAMP:20260420T213514
CREATED:20241008T221257Z
LAST-MODIFIED:20250131T125744Z
UID:10000188-1733306400-1733320800@gpcg.org.uk
SUMMARY:Wood Workshop at The Ringway
DESCRIPTION:Come work in our wood workshop on Wednesdays & Fridays\, 10am – 2pm. \nAll welcome\, no prior experience needed. Learn new basic skills in tool handling and creative wood making. \n  \n£2.50 per person per session\, excluding material.
URL:https://gpcg.org.uk/event/wood-workshop-at-the-ringway/2024-12-04/
LOCATION:The Ringway Centre\, 268 Baring Road\, London\, SE12 0DS
ATTACH;FMTTYPE=image/png:https://gpcg.org.uk/wp-content/uploads/2024/10/Wood-Workshops-GPCG-1-e1738328244262.png
ORGANIZER;CN="GPCG":MAILTO:info@gpcg.org.uk
END:VEVENT
BEGIN:VEVENT
DTSTART;TZID=Europe/London:20241202T120000
DTEND;TZID=Europe/London:20241202T150000
DTSTAMP:20260420T213514
CREATED:20241008T230316Z
LAST-MODIFIED:20241130T111815Z
UID:10000243-1733140800-1733151600@gpcg.org.uk
SUMMARY:Over 65s Free Christmas Dinner for residents of Grove Park Ward
DESCRIPTION:Come and join us for our Over 65’s Christmas Dinner at The Ringway Centre on Monday 2nd December\, 12-3pm. \nIf you live in Grove Park ward\, and would like to attend you must collect a free ticket from The Ringway Office in advance. There are limited tickets\, please book early to avoid disappointment. \nPlease note\, only ticket holders can attend on the day. \n 
URL:https://gpcg.org.uk/event/over-65s-christmas-dinner/
LOCATION:The Ringway Centre\, 268 Baring Road\, London\, SE12 0DS
CATEGORIES:GPCG Event
ATTACH;FMTTYPE=image/png:https://gpcg.org.uk/wp-content/uploads/2024/10/Free-Christmas-Dinner-GPCG-2024-1.png-1.png
ORGANIZER;CN="GPCG":MAILTO:info@gpcg.org.uk
END:VEVENT
BEGIN:VEVENT
DTSTART;TZID=Europe/London:20241127T100000
DTEND;TZID=Europe/London:20241127T140000
DTSTAMP:20260420T213514
CREATED:20241008T221257Z
LAST-MODIFIED:20250131T125744Z
UID:10000187-1732701600-1732716000@gpcg.org.uk
SUMMARY:Wood Workshop at The Ringway
DESCRIPTION:Come work in our wood workshop on Wednesdays & Fridays\, 10am – 2pm. \nAll welcome\, no prior experience needed. Learn new basic skills in tool handling and creative wood making. \n  \n£2.50 per person per session\, excluding material.
URL:https://gpcg.org.uk/event/wood-workshop-at-the-ringway/2024-11-27/
LOCATION:The Ringway Centre\, 268 Baring Road\, London\, SE12 0DS
ATTACH;FMTTYPE=image/png:https://gpcg.org.uk/wp-content/uploads/2024/10/Wood-Workshops-GPCG-1-e1738328244262.png
ORGANIZER;CN="GPCG":MAILTO:info@gpcg.org.uk
END:VEVENT
BEGIN:VEVENT
DTSTART;TZID=Europe/London:20241120T100000
DTEND;TZID=Europe/London:20241120T140000
DTSTAMP:20260420T213514
CREATED:20241008T221257Z
LAST-MODIFIED:20250131T125744Z
UID:10000186-1732096800-1732111200@gpcg.org.uk
SUMMARY:Wood Workshop at The Ringway
DESCRIPTION:Come work in our wood workshop on Wednesdays & Fridays\, 10am – 2pm. \nAll welcome\, no prior experience needed. Learn new basic skills in tool handling and creative wood making. \n  \n£2.50 per person per session\, excluding material.
URL:https://gpcg.org.uk/event/wood-workshop-at-the-ringway/2024-11-20/
LOCATION:The Ringway Centre\, 268 Baring Road\, London\, SE12 0DS
ATTACH;FMTTYPE=image/png:https://gpcg.org.uk/wp-content/uploads/2024/10/Wood-Workshops-GPCG-1-e1738328244262.png
ORGANIZER;CN="GPCG":MAILTO:info@gpcg.org.uk
END:VEVENT
BEGIN:VEVENT
DTSTART;TZID=Europe/London:20241113T100000
DTEND;TZID=Europe/London:20241113T140000
DTSTAMP:20260420T213514
CREATED:20241008T221257Z
LAST-MODIFIED:20250131T125744Z
UID:10000185-1731492000-1731506400@gpcg.org.uk
SUMMARY:Wood Workshop at The Ringway
DESCRIPTION:Come work in our wood workshop on Wednesdays & Fridays\, 10am – 2pm. \nAll welcome\, no prior experience needed. Learn new basic skills in tool handling and creative wood making. \n  \n£2.50 per person per session\, excluding material.
URL:https://gpcg.org.uk/event/wood-workshop-at-the-ringway/2024-11-13/
LOCATION:The Ringway Centre\, 268 Baring Road\, London\, SE12 0DS
ATTACH;FMTTYPE=image/png:https://gpcg.org.uk/wp-content/uploads/2024/10/Wood-Workshops-GPCG-1-e1738328244262.png
ORGANIZER;CN="GPCG":MAILTO:info@gpcg.org.uk
END:VEVENT
BEGIN:VEVENT
DTSTART;TZID=Europe/London:20241106T100000
DTEND;TZID=Europe/London:20241106T140000
DTSTAMP:20260420T213514
CREATED:20241008T221257Z
LAST-MODIFIED:20250131T125744Z
UID:10000184-1730887200-1730901600@gpcg.org.uk
SUMMARY:Wood Workshop at The Ringway
DESCRIPTION:Come work in our wood workshop on Wednesdays & Fridays\, 10am – 2pm. \nAll welcome\, no prior experience needed. Learn new basic skills in tool handling and creative wood making. \n  \n£2.50 per person per session\, excluding material.
URL:https://gpcg.org.uk/event/wood-workshop-at-the-ringway/2024-11-06/
LOCATION:The Ringway Centre\, 268 Baring Road\, London\, SE12 0DS
ATTACH;FMTTYPE=image/png:https://gpcg.org.uk/wp-content/uploads/2024/10/Wood-Workshops-GPCG-1-e1738328244262.png
ORGANIZER;CN="GPCG":MAILTO:info@gpcg.org.uk
END:VEVENT
BEGIN:VEVENT
DTSTART;TZID=Europe/London:20241030T100000
DTEND;TZID=Europe/London:20241030T140000
DTSTAMP:20260420T213514
CREATED:20241008T221257Z
LAST-MODIFIED:20250131T125744Z
UID:10000183-1730282400-1730296800@gpcg.org.uk
SUMMARY:Wood Workshop at The Ringway
DESCRIPTION:Come work in our wood workshop on Wednesdays & Fridays\, 10am – 2pm. \nAll welcome\, no prior experience needed. Learn new basic skills in tool handling and creative wood making. \n  \n£2.50 per person per session\, excluding material.
URL:https://gpcg.org.uk/event/wood-workshop-at-the-ringway/2024-10-30/
LOCATION:The Ringway Centre\, 268 Baring Road\, London\, SE12 0DS
ATTACH;FMTTYPE=image/png:https://gpcg.org.uk/wp-content/uploads/2024/10/Wood-Workshops-GPCG-1-e1738328244262.png
ORGANIZER;CN="GPCG":MAILTO:info@gpcg.org.uk
END:VEVENT
BEGIN:VEVENT
DTSTART;TZID=Europe/London:20241023T100000
DTEND;TZID=Europe/London:20241023T140000
DTSTAMP:20260420T213514
CREATED:20241008T221257Z
LAST-MODIFIED:20250131T125744Z
UID:10000182-1729677600-1729692000@gpcg.org.uk
SUMMARY:Wood Workshop at The Ringway
DESCRIPTION:Come work in our wood workshop on Wednesdays & Fridays\, 10am – 2pm. \nAll welcome\, no prior experience needed. Learn new basic skills in tool handling and creative wood making. \n  \n£2.50 per person per session\, excluding material.
URL:https://gpcg.org.uk/event/wood-workshop-at-the-ringway/2024-10-23/
LOCATION:The Ringway Centre\, 268 Baring Road\, London\, SE12 0DS
ATTACH;FMTTYPE=image/png:https://gpcg.org.uk/wp-content/uploads/2024/10/Wood-Workshops-GPCG-1-e1738328244262.png
ORGANIZER;CN="GPCG":MAILTO:info@gpcg.org.uk
END:VEVENT
BEGIN:VEVENT
DTSTART;TZID=Europe/London:20241016T100000
DTEND;TZID=Europe/London:20241016T140000
DTSTAMP:20260420T213514
CREATED:20241008T221257Z
LAST-MODIFIED:20250131T125744Z
UID:10000181-1729072800-1729087200@gpcg.org.uk
SUMMARY:Wood Workshop at The Ringway
DESCRIPTION:Come work in our wood workshop on Wednesdays & Fridays\, 10am – 2pm. \nAll welcome\, no prior experience needed. Learn new basic skills in tool handling and creative wood making. \n  \n£2.50 per person per session\, excluding material.
URL:https://gpcg.org.uk/event/wood-workshop-at-the-ringway/2024-10-16/
LOCATION:The Ringway Centre\, 268 Baring Road\, London\, SE12 0DS
ATTACH;FMTTYPE=image/png:https://gpcg.org.uk/wp-content/uploads/2024/10/Wood-Workshops-GPCG-1-e1738328244262.png
ORGANIZER;CN="GPCG":MAILTO:info@gpcg.org.uk
END:VEVENT
BEGIN:VEVENT
DTSTART;TZID=Europe/London:20241011T100000
DTEND;TZID=Europe/London:20241011T140000
DTSTAMP:20260420T213514
CREATED:20241008T221257Z
LAST-MODIFIED:20250131T125744Z
UID:10000180-1728640800-1728655200@gpcg.org.uk
SUMMARY:Wood Workshop at The Ringway
DESCRIPTION:Come work in our wood workshop on Wednesdays & Fridays\, 10am – 2pm. \nAll welcome\, no prior experience needed. Learn new basic skills in tool handling and creative wood making. \n  \n£2.50 per person per session\, excluding material.
URL:https://gpcg.org.uk/event/wood-workshop-at-the-ringway/2024-10-11/
LOCATION:The Ringway Centre\, 268 Baring Road\, London\, SE12 0DS
ATTACH;FMTTYPE=image/png:https://gpcg.org.uk/wp-content/uploads/2024/10/Wood-Workshops-GPCG-1-e1738328244262.png
ORGANIZER;CN="GPCG":MAILTO:info@gpcg.org.uk
END:VEVENT
BEGIN:VEVENT
DTSTART;TZID=Europe/London:20241009T100000
DTEND;TZID=Europe/London:20241009T140000
DTSTAMP:20260420T213514
CREATED:20241008T221257Z
LAST-MODIFIED:20250131T125744Z
UID:10000179-1728468000-1728482400@gpcg.org.uk
SUMMARY:Wood Workshop at The Ringway
DESCRIPTION:Come work in our wood workshop on Wednesdays & Fridays\, 10am – 2pm. \nAll welcome\, no prior experience needed. Learn new basic skills in tool handling and creative wood making. \n  \n£2.50 per person per session\, excluding material.
URL:https://gpcg.org.uk/event/wood-workshop-at-the-ringway/2024-10-09/
LOCATION:The Ringway Centre\, 268 Baring Road\, London\, SE12 0DS
ATTACH;FMTTYPE=image/png:https://gpcg.org.uk/wp-content/uploads/2024/10/Wood-Workshops-GPCG-1-e1738328244262.png
ORGANIZER;CN="GPCG":MAILTO:info@gpcg.org.uk
END:VEVENT
END:VCALENDAR